BEGIN:VCALENDAR
VERSION:2.0
PRODID:-//PSD - ECPv6.3.6//NONSGML v1.0//EN
CALSCALE:GREGORIAN
METHOD:PUBLISH
X-ORIGINAL-URL:https://future.psdconsulting.com
X-WR-CALDESC:Events for PSD
REFRESH-INTERVAL;VALUE=DURATION:PT1H
X-Robots-Tag:noindex
X-PUBLISHED-TTL:PT1H
BEGIN:VTIMEZONE
TZID:America/New_York
BEGIN:DAYLIGHT
TZOFFSETFROM:-0500
TZOFFSETTO:-0400
TZNAME:EDT
DTSTART:20220313T070000
END:DAYLIGHT
BEGIN:STANDARD
TZOFFSETFROM:-0400
TZOFFSETTO:-0500
TZNAME:EST
DTSTART:20221106T060000
END:STANDARD
END:VTIMEZONE
BEGIN:VEVENT
DTSTART;TZID=America/New_York:20220706T083000
DTEND;TZID=America/New_York:20220706T114500
DTSTAMP:20260423T200209
CREATED:20220510T160641Z
LAST-MODIFIED:20220510T160641Z
UID:16091-1657096200-1657107900@future.psdconsulting.com
SUMMARY:The Energy Code and Remote Virtual Inspections
DESCRIPTION:Description: \nThis program will help municipalities better understand how virtual inspections can save time and energy and provide a framework for determining when virtual inspections are appropriate and useful and when they are not. The training will also demonstrate a process for using widely available video conferencing platforms such as Zoom and Teams to guide a builder’s representative through a jobsite to perform an inspection from their office or home. Using additional photo-documentation will also be discussed. Finally\, PSD will provide a checklist or decision tree for municipalities to use for weighing time and energy savings potential for determining the types of inspections that lend themselves best to being conducted virtually. \nLearning Objectives: \nAfter attending this course\, students will be able to… 1- Describe the pros and cons of Remote Virtual Inspections 2- Understand a protocol for performing remote energy inspections 3- Discuss the use of photo-documentation in the inspection process 4- Improved their inspections of residential energy code requirements. \nContinuing education: Three (3) hours. PA UCC\, ICC\, AIA LU|HSW\, NARI\, RESNET\, BPI
URL:https://future.psdconsulting.com/calendar/the-energy-code-and-remote-virtual-inspections/
LOCATION:ONLINE – WEBINAR
CATEGORIES:Pennsylvania Energy Code Training,RVI
END:VEVENT
END:VCALENDAR