BEGIN:VCALENDAR
VERSION:2.0
PRODID:-//PSD - ECPv6.3.6//NONSGML v1.0//EN
CALSCALE:GREGORIAN
METHOD:PUBLISH
X-WR-CALNAME:PSD
X-ORIGINAL-URL:https://future.psdconsulting.com
X-WR-CALDESC:Events for PSD
REFRESH-INTERVAL;VALUE=DURATION:PT1H
X-Robots-Tag:noindex
X-PUBLISHED-TTL:PT1H
BEGIN:VTIMEZONE
TZID:America/New_York
BEGIN:DAYLIGHT
TZOFFSETFROM:-0500
TZOFFSETTO:-0400
TZNAME:EDT
DTSTART:20230312T070000
END:DAYLIGHT
BEGIN:STANDARD
TZOFFSETFROM:-0400
TZOFFSETTO:-0500
TZNAME:EST
DTSTART:20231105T060000
END:STANDARD
END:VTIMEZONE
BEGIN:VEVENT
DTSTART;TZID=America/New_York:20230503T083000
DTEND;TZID=America/New_York:20230503T100000
DTSTAMP:20260425T084750
CREATED:20230420T134828Z
LAST-MODIFIED:20230420T134828Z
UID:20018-1683102600-1683108000@future.psdconsulting.com
SUMMARY:(R3.1) Residential Mechanical Systems: Whole House Ventilation (Pt 1)
DESCRIPTION:NYSERDA Energy Code Training provided by Performance Systems Development \nR3.1 Residential Mechanical Systems: Whole House Ventilation Part 1 T02-07-2857 \nCOST:\nFree registration for New York Code Officials.*\nUse discount code: NYCEO\n*For use by New York Code Officials only.\nAll Others: $15.00 \nCONTINUING EDUCATION:\nArchitects: 1.5 AIA LU | HSW\nHome Performance Contractors: 1.5 BPI CEUs\nCode Enforcement Officials: 1.5 NYS DOS In-Service Hours \nTo receive credit\, participants must log into the GoToWebinar application within the first 15 minutes of the training and stay until the end of the webinar. VIDEO VIEWING IS REQUIRED! \nCOURSE DESCRIPTION\nBuild Tight\, Ventilate Right Background\nBuilding Tight: Why?\nVentilating Right: Why and How?\nVentilation Codes and Standards\nVentilation Types: Pros and Cons
URL:https://future.psdconsulting.com/calendar/r3-1-residential-mechanical-systems-whole-house-ventilation-pt-1-12/
LOCATION:ONLINE – WEBINAR
CATEGORIES:New York Energy Code Training,Residential
END:VEVENT
BEGIN:VEVENT
DTSTART;TZID=America/New_York:20230503T101500
DTEND;TZID=America/New_York:20230503T114500
DTSTAMP:20260425T084750
CREATED:20230420T135026Z
LAST-MODIFIED:20230420T135026Z
UID:20020-1683108900-1683114300@future.psdconsulting.com
SUMMARY:(R3.2) Residential: Efficient Forced Air Distribution (Pt 2)
DESCRIPTION:NYSERDA Energy Code Training provided by Performance Systems Development \nR3.2 Residential: Efficient Forced Air Distribution Part 2 T02-07-2862 \nCOST:\nFree registration for New York Code Officials.*\nUse discount code: NYCEO\n*For use by New York Code Officials only.\nAll Others: $15.00 \nCONTINUING EDUCATION:\nArchitects: 1.5 AIA LU | HSW\nHome Performance Contractors: 1.5 BPI CEUs\nCode Enforcement Officials: 1.5 NYS DOS In-Service Hours \nTo receive credit\, participants must log into the GoToWebinar application within the first 15 minutes of the training and stay until the end of the webinar. VIDEO VIEWING IS REQUIRED! \nCOURSE DESCRIPTION\nIn this course attendees will understand the importance of duct testing\, sealing\, and installation on the total performance of a house heating and cooling system. Attendees will be able to distinguish various code requirements based on duct proximity to the building thermal envelope. In addition\, attendees will learn duct insulation requirements and methods. Attendees will be introduced to a customizable Duct and Envelope Testing (DET) reporting form to make demonstrating code compliance straightforward and efficient. \nLearning Objectives:\n1. Understand the consequences of leaky duct systems\n2. Understand how to achieve tight ducts\n3. Identify and resolve other common duct installation problems\n4. Utilize the provided duct and envelope testing (DET) form to document or verify compliance with duct testing requirements
URL:https://future.psdconsulting.com/calendar/r3-2-residential-efficient-forced-air-distribution-pt-2-17/
LOCATION:ONLINE – WEBINAR
CATEGORIES:New York Energy Code Training,Residential
END:VEVENT
BEGIN:VEVENT
DTSTART;TZID=America/New_York:20230504T083000
DTEND;TZID=America/New_York:20230504T100000
DTSTAMP:20260425T084750
CREATED:20230420T135203Z
LAST-MODIFIED:20230420T135203Z
UID:20022-1683189000-1683194400@future.psdconsulting.com
SUMMARY:(R1.1) Residential Energy Plan Reviews in 15 Minutes or Less (Pt 1)
DESCRIPTION:NYSERDA Energy Code Training provided by Performance Systems Development \nResidential Energy Plan Reviews in 15 Minutes or Less (Pt 1) T02-07-2829 \nCOST:\nFree registration for New York Code Officials.*\nUse discount code: NYCEO\n*For use by New York Code Officials only.\nAll Others: $15.00 \nCONTINUING EDUCATION:\nArchitects: 1.5 AIA LU | HSW\nHome Performance Contractors: 1.5 BPI CEUs\nCode Enforcement Officials: 1.5 NYS DOS In-Service Hours \nTo receive credit\, participants must log into the GoToWebinar application within the first 15 minutes of the training and stay until the end of the webinar. VIDEO VIEWING IS REQUIRED! \nCOURSE DESCRIPTION\nCountless previous research shows that code officials have very limited time to perform thorough plan reviews and that energy code provisions are often the first items to be jettisoned. This webinar is Part 1 of a two-part series\, and will not only help code officials\, but also those responsible for preparing construction documents. Participants will understand what’s required to do quick – yet thorough – document submittals and plan reviews. Sample checklists\, worksheets and other forms will be discussed and downloadable. \nLEARNING OBJECTIVES:\n1. Describe a process for reviewing residential plans that includes assessing the highest impact energy code provisions\n2. Understand the inputs to provided forms and checklists such as duct and envelope testing verification and HVAC design forms and integrate them into your organization’s normal compliance documentation or enforcement processes\n3. Recreate a timeline that includes which construction details and verification forms needed to be provided/collected\n4. Describe how third-party energy professionals such as duct and envelope testers and HERS Raters fit into the inspection process
URL:https://future.psdconsulting.com/calendar/r1-1-residential-energy-plan-reviews-in-15-minutes-or-less-pt-1-23/
LOCATION:ONLINE – WEBINAR
CATEGORIES:New York Energy Code Training,Residential
END:VEVENT
BEGIN:VEVENT
DTSTART;TZID=America/New_York:20230504T101500
DTEND;TZID=America/New_York:20230504T114500
DTSTAMP:20260425T084750
CREATED:20230420T135409Z
LAST-MODIFIED:20230420T135409Z
UID:20024-1683195300-1683200700@future.psdconsulting.com
SUMMARY:(R1.2) Residential Energy Inspections in 15 Minutes or Less (Pt 2)
DESCRIPTION:NYSERDA Energy Code Training provided by Performance Systems Development \nResidential Energy Inspections in 15 Minutes or Less (Pt 2) T02-07-2863 \nCOST:\nFree registration for New York Code Officials.*\nUse discount code: NYCEO\n*For use by New York Code Officials only.\nAll Others: $15.00 \nCONTINUING EDUCATION:\nArchitects: 1.5 AIA LU | HSW\nHome Performance Contractors: 1.5 BPI CEUs\nCode Enforcement Officials: 1.5 NYS DOS In-Service Hours \nTo receive credit\, participants must log into the GoToWebinar application within the first 15 minutes of the training and stay until the end of the webinar. VIDEO VIEWING IS REQUIRED! \nCOURSE DESCRIPTION:\nCountless previous research shows that code officials have very limited time to perform thorough energy code inspections. This 90-minute webinar will cover the five required inspections: footing and foundation; Framing and rough-in; Plumbing\, Mechanical and Final. Part 2 of a two-part series\, this course will not only help code officials but also those responsible for designing and constructing residential buildings. Participants will understand what’s required to do quick – yet thorough – site inspections. Sample inspection checklists\, worksheets and other forms will be discussed and downloadable. \nLearning objectives:\nAfter taking this course\, attendees will be able to…\n1. Describe a process for inspecting residential construction that includes assessing the highest impact energy code provisions\n2. Understand the inputs to provided forms and checklists such as duct and envelope testing verification and HVAC design forms and integrate them into your organization’s compliance documentation or enforcement processes\n3. Recreate a timeline that includes which construction details and verification forms need to be provided/collected and when in the design/construction process\n4. Describe how third-party energy professionals such as duct and envelope testers and HERS Raters fit into the inspection process
URL:https://future.psdconsulting.com/calendar/r1-2-residential-energy-inspections-in-15-minutes-or-less-pt-2-22/
LOCATION:ONLINE – WEBINAR
CATEGORIES:New York Energy Code Training,Residential
END:VEVENT
BEGIN:VEVENT
DTSTART;TZID=America/New_York:20230516T083000
DTEND;TZID=America/New_York:20230516T100000
DTSTAMP:20260425T084750
CREATED:20230420T140740Z
LAST-MODIFIED:20230420T140740Z
UID:20032-1684225800-1684231200@future.psdconsulting.com
SUMMARY:(R6.1) Don’t Be Left Exposed – Part 1: Meeting the Energy Code with the Safe Use of Foam Insulation
DESCRIPTION:NYSERDA Energy Code Training provided by Performance Systems Development \nR6.1 – Don’t Be Left Exposed – Part 1 – Meeting the Energy Code with the Safe Use of Foam Insulation\nT02-07-3158 \nCOST:\nFree registration for New York Code Officials.*\nUse discount code: NYCEO\n*For use by New York Code Officials only.\nAll Others: $15.00 \nCONTINUING EDUCATION:\nArchitects: 1.5 AIA LU | HSW\nHome Performance Contractors: 1.5 BPI CEUs\nCode Enforcement Officials: 1.5 NYS DOS In-Service Hours \nTo receive credit\, participants must log into the GoToWebinar application within the first 15 minutes of the training and stay until the end of the webinar. VIDEO VIEWING IS REQUIRED! \nCOURSE DESCRIPTION\nRigid foam board and spray foam insulation are common material choices to help achieve energy code compliance\, but when installed improperly can create fire hazards. Foam products general must be covered from the interior with thermal or ignition barriers\, but sometimes may be left exposed via “specific approvals.” The challenge for homebuilders\, design professionals\, insulation contractors\, and code officials is knowing which requirements apply to which applications. This course will cover RCNYSrequirements for common applications of foam insulation in residential construction\, including crawl space walls\, basement walls\, roofs\, attic hatches\, knee walls\, rim joists\, and exterior sheathing. These requirements will be presented in the context of meeting ECCCNYS requirements for these building components. \nLEARNING OBJECTIVES:\n1- Understand the thermal envelope insulation requirements of the energy code\n2- Differentiate between several categories of common foam insulation materials\n3- Describe common applications of foam insulation materials and under what conditions these products need to be covered\n4- Locate and use documentation for “specific applications” for when foam may be left exposed
URL:https://future.psdconsulting.com/calendar/r6-1-dont-be-left-exposed-part-1-meeting-the-energy-code-with-the-safe-use-of-foam-insulation/
LOCATION:ONLINE – WEBINAR
CATEGORIES:New York Energy Code Training,Residential
END:VEVENT
BEGIN:VEVENT
DTSTART;TZID=America/New_York:20230516T101500
DTEND;TZID=America/New_York:20230516T114500
DTSTAMP:20260425T084750
CREATED:20230420T140914Z
LAST-MODIFIED:20230420T140914Z
UID:20034-1684232100-1684237500@future.psdconsulting.com
SUMMARY:(R6.2) Don’t Be Left Exposed – Part 2: Meeting the Energy Code with the Safe Use of Foam Insulation
DESCRIPTION:NYSERDA Energy Code Training provided by Performance Systems Development \nR6.2 – Don’t Be Left Exposed – Part 2 – Meeting the Energy Code with the Safe Use of Foam Insulation\nT02-07-3170 \nCOST:\nFree registration for New York Code Officials.*\nUse discount code: NYCEO\n*For use by New York Code Officials only.\nAll Others: $15.00 \nCONTINUING EDUCATION:\nArchitects: 1.5 AIA LU | HSW\nHome Performance Contractors: 1.5 BPI CEUs\nCode Enforcement Officials: 1.5 NYS DOS In-Service Hours \nTo receive credit\, participants must log into the GoToWebinar application within the first 15 minutes of the training and stay until the end of the webinar. VIDEO VIEWING IS REQUIRED! \nCOURSE DESCRIPTION\nRigid foam board and spray foam insulation are common material choices to help achieve energy code compliance\, but when installed improperly can create fire hazards. Foam products general must be covered from the interior with thermal or ignition barriers\, but sometimes may be left exposed via “specific approvals.” The challenge for homebuilders\, design professionals\, insulation contractors\, and code officials is knowing which requirements apply to which applications. This course will cover RCNYSrequirements for common applications of foam insulation in residential construction\, including crawl space walls\, basement walls\, roofs\, attic hatches\, knee walls\, rim joists\, and exterior sheathing. These requirements will be presented in the context of meeting ECCCNYS requirements for these building components. \nLEARNING OBJECTIVES:\n1- Understand the thermal envelope insulation requirements of the energy code\n2- Differentiate between several categories of common foam insulation materials\n3- Describe common applications of foam insulation materials and under what conditions these products need to be covered\n4- Locate and use documentation for “specific applications” for when foam may be left exposed
URL:https://future.psdconsulting.com/calendar/r6-2-dont-be-left-exposed-part-2-meeting-the-energy-code-with-the-safe-use-of-foam-insulation/
LOCATION:ONLINE – WEBINAR
CATEGORIES:New York Energy Code Training,Residential
END:VEVENT
BEGIN:VEVENT
DTSTART;TZID=America/New_York:20230517T083000
DTEND;TZID=America/New_York:20230517T100000
DTSTAMP:20260425T084750
CREATED:20230420T144741Z
LAST-MODIFIED:20230420T144741Z
UID:20036-1684312200-1684317600@future.psdconsulting.com
SUMMARY:(R2.1) ECCCNYS Residential – Air Sealing to 3 ACH50 (Part 1)
DESCRIPTION:NYSERDA Energy Code Training provided by Performance Systems Development \nResidential – Air Sealing to 3 ACH50 (R2.1) Part 1 T02-07-2843 \nCOST:\nFree registration for New York Code Officials.*\nUse discount code: NYCEO\n*For use by New York Code Officials only.\nAll Others: $15.00 \nCONTINUING EDUCATION:\nArchitects: 1.5 AIA LU | HSW\nHome Performance Contractors: 1.5 BPI CEUs\nCode Enforcement Officials: 1.5 NYS DOS In-Service Hours \nTo receive credit\, participants must log into the GoToWebinar application within the first 15 minutes of the training and stay until the end of the webinar. VIDEO VIEWING IS REQUIRED! \nCOURSE DESCRIPTION\nRelevant market research\, including the DOE Residential Field Study\, revealed significant noncompliance with 3 ACH50\, and multiple other field studies in nearby geographies and uncovered lack of proper insulation installation. This webinar training covers air sealing\, air barriers\, blower-door testing\, identification of potential leakage sites in CAD details\, 3D graphics\, and photographs\, for single family residential including other issues\, such as party walls\, in low-rise multifamily. This webinar is Part 1 of a two-part series on energy code envelope requirements. Both webinars include test-your-knowledge questions\, and guided discussion of pros/cons of various strategies. \nLearning Objectives:\n1. Understand how to review\, install\, and inspect details necessary to achieve an envelope leakage rate of 3 ACH50 or less\n2. Differentiate between several air sealing techniques\n3. Identify and resolve common leakage areas\n4. Understand code requirements for air sealing from the 2020 ECCCNYS Table 402.4.1.1 Air Barrier and Insulation Installation.
URL:https://future.psdconsulting.com/calendar/r2-1-ecccnys-residential-air-sealing-to-3-ach50-part-1-9/
LOCATION:ONLINE – WEBINAR
CATEGORIES:New York Energy Code Training,Residential
END:VEVENT
BEGIN:VEVENT
DTSTART;TZID=America/New_York:20230517T101500
DTEND;TZID=America/New_York:20230517T114500
DTSTAMP:20260425T084750
CREATED:20230420T145024Z
LAST-MODIFIED:20230420T145024Z
UID:20038-1684318500-1684323900@future.psdconsulting.com
SUMMARY:(R2.2) – ECCCNYS Residential Envelope (Pt 2): Other Requirements
DESCRIPTION:NYSERDA Energy Code Training provided by Performance Systems Development \nResidential – Other NYSECCC Envelope Requirements (R2.2) T02-07-2849 \nCOST:\nFree registration for New York Code Officials.*\nUse discount code: NYCEO\n*For use by New York Code Officials only.\nAll Others: $15.00 \nCONTINUING EDUCATION:\nArchitects: 1.5 AIA LU | HSW\nHome Performance Contractors: 1.5 BPI CEUs\nCode Enforcement Officials: 1.5 NYS DOS In-Service Hours \nTo receive credit\, participants must log into the GoToWebinar application within the first 15 minutes of the training and stay until the end of the webinar. VIDEO VIEWING IS REQUIRED! \nCOURSE DESCRIPTION\nRelevant market research\, including the DOE Residential Field Study\, revealed significant noncompliance with 3 ACH50\, and multiple other field studies in nearby geographies uncovered lack of proper insulation installation. This webinar training covers energy code insulation installation requirements\, and includes mock-ups\, identification and potential problem sites in CAD details\, 3D graphics\, and photographs for single family residential and other issues\, such as party walls in low-rise multifamily. This webinar is Part 2 of a two-part series and includes test-your-knowledge questions\, and guided discussion of pros/cons of various strategies. \nLearning Objectives\n1: Understand how to review\, install\, and inspect details necessary to achieve envelope insulation requirements\n2: Differentiate between several insulation techniques\n3: Identify and resolve common problem areas such as cold corners\n4: Understand code requirements for insulation installation from the 2020 ECCCNYS Table 402.4.1.1 Air Barrier and Insulation Installation.
URL:https://future.psdconsulting.com/calendar/r2-2-ecccnys-residential-envelope-pt-2-other-requirements-12/
LOCATION:ONLINE – WEBINAR
CATEGORIES:New York Energy Code Training,Residential
END:VEVENT
BEGIN:VEVENT
DTSTART;TZID=America/New_York:20230518T083000
DTEND;TZID=America/New_York:20230518T100000
DTSTAMP:20260425T084750
CREATED:20230420T145231Z
LAST-MODIFIED:20230420T145231Z
UID:20040-1684398600-1684404000@future.psdconsulting.com
SUMMARY:(R5.1) The Energy Code and Existing Buildings (Residential) – Part 1
DESCRIPTION:NYSERDA Energy Code Training provided by Performance Systems Development \nResidential – The Energy Code and Existing Buildings – Part 1 \nCOST:\nFree registration for New York Code Officials.*\nUse discount code: NYCEO\n*For use by New York Code Officials only.\nAll Others: $15.00 \nCONTINUING EDUCATION:\nArchitects: 1.5 AIA LU | HSW\nHome Performance Contractors: 1.5 BPI CEUs\nCode Enforcement Officials: 1.5 NYS DOS In-Service Hours \nTo receive credit\, participants must log into the GoToWebinar application within the first 15 minutes of the training and stay until the end of the webinar. VIDEO VIEWING IS REQUIRED! \nCOURSE DESCRIPTION\nThis course will provide a review of IECC Chapter 5 [RE] provisions with an emphasis on situations where work performed on existing buildings requires them to meet the energy code like new construction. This includes additions\, new thermal envelope assemblies built as part of an alteration\, window replacements\, new heating\, cooling and duct systems\, new service hot water systems\, new lighting where 50 percent or more of the luminaires are replaced\, changes from unconditioned to conditioned space\, and commercial spaces converted to dwelling units. The course will provide numerous examples and ask attendees to identify the energy code requirements for each scenario. \nLEARNING OBJECTIVES\n-Determine when construction in existing buildings needs to meet the energy code like new construction\n-Determine situations where exceptions apply\n-Utilize REScheck to document\, determine\, and document exceptions\n-Understand various prescriptive energy code requirements for existing building projects requiring compliance\, like new construction
URL:https://future.psdconsulting.com/calendar/r5-1-the-energy-code-and-existing-buildings-residential-part-1/
LOCATION:ONLINE – WEBINAR
CATEGORIES:New York Energy Code Training,Residential
END:VEVENT
BEGIN:VEVENT
DTSTART;TZID=America/New_York:20230518T101500
DTEND;TZID=America/New_York:20230518T114500
DTSTAMP:20260425T084750
CREATED:20230420T145416Z
LAST-MODIFIED:20230420T145416Z
UID:20042-1684404900-1684410300@future.psdconsulting.com
SUMMARY:(R5.2) The Energy Code and Existing Buildings (Residential) – Part 2
DESCRIPTION:NYSERDA Energy Code Training provided by Performance Systems Development \nResidential – The Energy Code and Existing Buildings – Part 2 \nCOST:\nFree registration for New York Code Officials.*\nUse discount code: NYCEO\n*For use by New York Code Officials only.\nAll Others: $15.00 \nCONTINUING EDUCATION:\nArchitects: 1.5 AIA LU | HSW\nHome Performance Contractors: 1.5 BPI CEUs\nCode Enforcement Officials: 1.5 NYS DOS In-Service Hours \nTo receive credit\, participants must log into the GoToWebinar application within the first 15 minutes of the training and stay until the end of the webinar. VIDEO VIEWING IS REQUIRED! \nCOURSE DESCRIPTION\nThis course will provide a review of IECC Chapter 5 [RE] provisions with an emphasis on situations where work performed on existing buildings requires them to meet the energy code like new construction. This includes additions\, new thermal envelope assemblies built as part of an alteration\, window replacements\, new heating\, cooling and duct systems\, new service hot water systems\, new lighting where 50 percent or more of the luminaires are replaced\, changes from unconditioned to conditioned space\, and commercial spaces converted to dwelling units. The course will provide numerous examples and ask attendees to identify the energy code requirements for each scenario. \nLEARNING OBJECTIVES\n-Determine when construction in existing buildings needs to meet the energy code like new construction\n-Determine situations where exceptions apply\n-Utilize REScheck to document\, determine\, and document exceptions\n-Understand various prescriptive energy code requirements for existing building projects requiring compliance\, like new construction
URL:https://future.psdconsulting.com/calendar/r5-2-the-energy-code-and-existing-buildings-residential-part-2/
LOCATION:ONLINE – WEBINAR
CATEGORIES:New York Energy Code Training,Residential
END:VEVENT
BEGIN:VEVENT
DTSTART;TZID=America/New_York:20230530T083000
DTEND;TZID=America/New_York:20230530T100000
DTSTAMP:20260425T084750
CREATED:20230420T153003Z
LAST-MODIFIED:20230420T153003Z
UID:20052-1685435400-1685440800@future.psdconsulting.com
SUMMARY:(R4.0) Electrifying the Energy Code – Residential
DESCRIPTION:NYSERDA Energy Code Training provided by Performance Systems Development \nResidential – Electrifying the Energy Code T02-07-3133 \nCOST:\nFree registration for New York Code Officials.*\nUse discount code: NYCEO\n*For use by New York Code Officials only.\nAll Others: $15.00 \nCONTINUING EDUCATION:\nArchitects: 1.5 AIA LU | HSW\nHome Performance Contractors: 1.5 BPI CEUs\nCode Enforcement Officials: 1.5 NYS DOS In-Service Hours \nTo receive credit\, participants must log into the GoToWebinar application within the first 15 minutes of the training and stay until the end of the webinar. VIDEO VIEWING IS REQUIRED! \nCOURSE DESCRIPTION\nFollowing an introduction to the benefits of electrification\, this course will review the requirements of IECC Appendix RA (Solar-Ready Provisions) along with related requirements including mandatory access and set back areas required by the Fire Code of New York State in Section 1204 Solar Photovoltaic Power Systems. The course will walk through several examples and ask attendees to determine whether the solar-ready provisions apply to a particular building\, given its type\, orientation\, roof design and other considerations. The course will also review examples of how to fit in the required solar ready zone considering obstructions and required setbacks. Example documentation will also be reviewed. Finally\, the course will cover the electric vehicle service equipment capable requirements of NYStretch and how adopting these provisions will help with the electrification of New York’s transportation system. \nLearning Objectives\n1- Describe the concept of beneficial electrification\n2- Identify and describe energy code provisions that promote beneficial electrification\n3- Understand relevant requirements from the Fire Code of New York State\n4- Describe the various systems involved in NYStretch and IECC Appendix RA
URL:https://future.psdconsulting.com/calendar/r4-0-electrifying-the-energy-code-residential-3/
LOCATION:ONLINE – WEBINAR
CATEGORIES:New York Energy Code Training,Residential
END:VEVENT
END:VCALENDAR