BEGIN:VCALENDAR
VERSION:2.0
PRODID:-//PSD - ECPv6.3.6//NONSGML v1.0//EN
CALSCALE:GREGORIAN
METHOD:PUBLISH
X-WR-CALNAME:PSD
X-ORIGINAL-URL:https://future.psdconsulting.com
X-WR-CALDESC:Events for PSD
REFRESH-INTERVAL;VALUE=DURATION:PT1H
X-Robots-Tag:noindex
X-PUBLISHED-TTL:PT1H
BEGIN:VTIMEZONE
TZID:America/New_York
BEGIN:DAYLIGHT
TZOFFSETFROM:-0500
TZOFFSETTO:-0400
TZNAME:EDT
DTSTART:20210314T070000
END:DAYLIGHT
BEGIN:STANDARD
TZOFFSETFROM:-0400
TZOFFSETTO:-0500
TZNAME:EST
DTSTART:20211107T060000
END:STANDARD
END:VTIMEZONE
BEGIN:VEVENT
DTSTART;TZID=America/New_York:20210831T130000
DTEND;TZID=America/New_York:20210831T143000
DTSTAMP:20260423T030400
CREATED:20210525T211025Z
LAST-MODIFIED:20210803T224231Z
UID:14528-1630414800-1630420200@future.psdconsulting.com
SUMMARY:S2.1 NYStretch Energy Code for Residential Buildings 90 minute (Pt 1)
DESCRIPTION:
URL:https://future.psdconsulting.com/calendar/s2-1-nystretch-energy-code-for-residential-buildings-90-minute-pt-1-11/
LOCATION:ONLINE – WEBINAR
CATEGORIES:New York Energy Code Training,Stretch Code
END:VEVENT
BEGIN:VEVENT
DTSTART;TZID=America/New_York:20210831T144500
DTEND;TZID=America/New_York:20210831T161500
DTSTAMP:20260423T030400
CREATED:20210525T211149Z
LAST-MODIFIED:20210803T224327Z
UID:14530-1630421100-1630426500@future.psdconsulting.com
SUMMARY:S2.2 NYStretch Energy Code for Residential Buildings 90 minute (Pt 2)
DESCRIPTION:
URL:https://future.psdconsulting.com/calendar/s2-2-nystretch-energy-code-for-residential-buildings-90-minute-pt-2-11/
LOCATION:ONLINE – WEBINAR
CATEGORIES:New York Energy Code Training,Stretch Code
END:VEVENT
END:VCALENDAR