BEGIN:VCALENDAR
VERSION:2.0
PRODID:-//PSD - ECPv6.3.6//NONSGML v1.0//EN
CALSCALE:GREGORIAN
METHOD:PUBLISH
X-WR-CALNAME:PSD
X-ORIGINAL-URL:https://future.psdconsulting.com
X-WR-CALDESC:Events for PSD
REFRESH-INTERVAL;VALUE=DURATION:PT1H
X-Robots-Tag:noindex
X-PUBLISHED-TTL:PT1H
BEGIN:VTIMEZONE
TZID:America/New_York
BEGIN:DAYLIGHT
TZOFFSETFROM:-0500
TZOFFSETTO:-0400
TZNAME:EDT
DTSTART:20210314T070000
END:DAYLIGHT
BEGIN:STANDARD
TZOFFSETFROM:-0400
TZOFFSETTO:-0500
TZNAME:EST
DTSTART:20211107T060000
END:STANDARD
END:VTIMEZONE
BEGIN:VEVENT
DTSTART;TZID=America/New_York:20210811T083000
DTEND;TZID=America/New_York:20210811T100000
DTSTAMP:20260422T230636
CREATED:20210525T203224Z
LAST-MODIFIED:20210730T205617Z
UID:14508-1628670600-1628676000@future.psdconsulting.com
SUMMARY:C2.1 Prioritizing ECCCNYS Enforcement for Commercial Buildings (Pt 1)
DESCRIPTION:
URL:https://future.psdconsulting.com/calendar/c2-1-prioritizing-ecccnys-enforcement-for-commercial-buildings-pt-1/
LOCATION:ONLINE – WEBINAR
CATEGORIES:New York Energy Code Training
END:VEVENT
BEGIN:VEVENT
DTSTART;TZID=America/New_York:20210811T101500
DTEND;TZID=America/New_York:20210811T114500
DTSTAMP:20260422T230636
CREATED:20210525T203429Z
LAST-MODIFIED:20210730T205659Z
UID:14510-1628676900-1628682300@future.psdconsulting.com
SUMMARY:C2.2 Prioritizing ECCCNYS Enforcement for Commercial Buildings Pt 2
DESCRIPTION:
URL:https://future.psdconsulting.com/calendar/c2-2-prioritizing-ecccnys-enforcement-for-commercial-buildings-pt-2-3/
LOCATION:ONLINE – WEBINAR
CATEGORIES:New York Energy Code Training
END:VEVENT
END:VCALENDAR