BEGIN:VCALENDAR
VERSION:2.0
PRODID:-//PSD - ECPv6.3.6//NONSGML v1.0//EN
CALSCALE:GREGORIAN
METHOD:PUBLISH
X-ORIGINAL-URL:https://future.psdconsulting.com
X-WR-CALDESC:Events for PSD
REFRESH-INTERVAL;VALUE=DURATION:PT1H
X-Robots-Tag:noindex
X-PUBLISHED-TTL:PT1H
BEGIN:VTIMEZONE
TZID:America/New_York
BEGIN:DAYLIGHT
TZOFFSETFROM:-0500
TZOFFSETTO:-0400
TZNAME:EDT
DTSTART:20210314T070000
END:DAYLIGHT
BEGIN:STANDARD
TZOFFSETFROM:-0400
TZOFFSETTO:-0500
TZNAME:EST
DTSTART:20211107T060000
END:STANDARD
END:VTIMEZONE
BEGIN:VEVENT
DTSTART;TZID=America/New_York:20210611T083000
DTEND;TZID=America/New_York:20210611T100000
DTSTAMP:20260422T085031
CREATED:20210525T031224Z
LAST-MODIFIED:20210525T031224Z
UID:14440-1623400200-1623405600@future.psdconsulting.com
SUMMARY:S3.1 NYStretch Energy Code for Commercial Buildings (Pt 1)
DESCRIPTION:
URL:https://future.psdconsulting.com/calendar/s3-1-nystretch-energy-code-for-commercial-buildings-pt-1/
LOCATION:ONLINE – WEBINAR
CATEGORIES:New York Energy Code Training
END:VEVENT
BEGIN:VEVENT
DTSTART;TZID=America/New_York:20210611T101500
DTEND;TZID=America/New_York:20210611T114500
DTSTAMP:20260422T085031
CREATED:20210525T031330Z
LAST-MODIFIED:20210525T031330Z
UID:14442-1623406500-1623411900@future.psdconsulting.com
SUMMARY:S3.2 NYStretch Energy Code for Commercial Buildings (Pt 2)
DESCRIPTION:
URL:https://future.psdconsulting.com/calendar/s3-2-nystretch-energy-code-for-commercial-buildings-pt-2/
LOCATION:ONLINE – WEBINAR
CATEGORIES:New York Energy Code Training
END:VEVENT
END:VCALENDAR