BEGIN:VCALENDAR
VERSION:2.0
PRODID:-//PSD - ECPv6.3.6//NONSGML v1.0//EN
CALSCALE:GREGORIAN
METHOD:PUBLISH
X-WR-CALNAME:PSD
X-ORIGINAL-URL:https://future.psdconsulting.com
X-WR-CALDESC:Events for PSD
REFRESH-INTERVAL;VALUE=DURATION:PT1H
X-Robots-Tag:noindex
X-PUBLISHED-TTL:PT1H
BEGIN:VTIMEZONE
TZID:America/New_York
BEGIN:DAYLIGHT
TZOFFSETFROM:-0500
TZOFFSETTO:-0400
TZNAME:EDT
DTSTART:20210314T070000
END:DAYLIGHT
BEGIN:STANDARD
TZOFFSETFROM:-0400
TZOFFSETTO:-0500
TZNAME:EST
DTSTART:20211107T060000
END:STANDARD
END:VTIMEZONE
BEGIN:VEVENT
DTSTART;TZID=America/New_York:20210330T130000
DTEND;TZID=America/New_York:20210330T143000
DTSTAMP:20260422T230630
CREATED:20210218T182115Z
LAST-MODIFIED:20210218T182115Z
UID:14093-1617109200-1617114600@future.psdconsulting.com
SUMMARY:(C1.1) Mechanical Systems for Large Commercial Buildings (Part 1)
DESCRIPTION:
URL:https://future.psdconsulting.com/calendar/c1-1-mechanical-systems-for-large-commercial-buildings-part-1-10/
LOCATION:ONLINE – WEBINAR
CATEGORIES:New York Energy Code Training
END:VEVENT
BEGIN:VEVENT
DTSTART;TZID=America/New_York:20210330T144500
DTEND;TZID=America/New_York:20210330T161500
DTSTAMP:20260422T230630
CREATED:20210218T182239Z
LAST-MODIFIED:20210218T182239Z
UID:14095-1617115500-1617120900@future.psdconsulting.com
SUMMARY:(C1.2) Lighting Systems for Large Commercial Buildings (Part 2)
DESCRIPTION:
URL:https://future.psdconsulting.com/calendar/c1-2-lighting-systems-for-large-commercial-buildings-part-2-7/
LOCATION:ONLINE – WEBINAR
CATEGORIES:New York Energy Code Training
END:VEVENT
END:VCALENDAR