BEGIN:VCALENDAR
VERSION:2.0
PRODID:-//PSD - ECPv6.3.6//NONSGML v1.0//EN
CALSCALE:GREGORIAN
METHOD:PUBLISH
X-WR-CALNAME:PSD
X-ORIGINAL-URL:https://future.psdconsulting.com
X-WR-CALDESC:Events for PSD
REFRESH-INTERVAL;VALUE=DURATION:PT1H
X-Robots-Tag:noindex
X-PUBLISHED-TTL:PT1H
BEGIN:VTIMEZONE
TZID:America/New_York
BEGIN:DAYLIGHT
TZOFFSETFROM:-0500
TZOFFSETTO:-0400
TZNAME:EDT
DTSTART:20220313T070000
END:DAYLIGHT
BEGIN:STANDARD
TZOFFSETFROM:-0400
TZOFFSETTO:-0500
TZNAME:EST
DTSTART:20221106T060000
END:STANDARD
END:VTIMEZONE
BEGIN:VEVENT
DTSTART;TZID=America/New_York:20220802T083000
DTEND;TZID=America/New_York:20220802T100000
DTSTAMP:20260421T154354
CREATED:20220711T143521Z
LAST-MODIFIED:20220711T143521Z
UID:16262-1659429000-1659434400@future.psdconsulting.com
SUMMARY:(C1.1) Mechanical Systems for Large Commercial Buildings (Pt 1)
DESCRIPTION:NYSERDA Energy Code Training provided by Performance Systems Development \n(C1.1) Mechanical Systems for Large Commercial Buildings (Part 1)\nT02-07-2910 \nCOST:\nFree registration for New York Code Officials.*\nUse discount code: NYCEO\n*For use by New York Code Officials only.\nAll Others: $15.00 \nCONTINUING EDUCATION:\nArchitects: 1.5 AIA LU | HSW\nHome Performance Contractors: 1.5 BPI CEUs\nCode Enforcement Officials: 1.5 NYS DOS In-Service Hours \nTo receive credit\, participants must log into the GoToWebinar application within the first 15 minutes of the training and stay until the end of the webinar. VIDEO VIEWING IS REQUIRED! \nCOURSE DESCRIPTION:\nLarge commercial buildings are common in large urban areas\, and while less common in suburban and rural areas\, they have large per-building energy impacts. This program will prepare design professionals and code enforcement officials ensure their work results in buildings with better-than-average energy use intensities.\nAttendees will be asked to pinpoint the locations in construction documents where various mechanical controls and equipment specifications are (or should be). Guided discussions will help attendees identify the best ways to provide adequate documentation on plans and inspect or elucidate control configurations in the field. \nLearning Objectives:\nAttendees will be able to…\n1. Understand the types and basic functions of common and complex HVAC systems\n2. Identify where ventilation and related equipment are required including economizers\, demand-controlled ventilation\, and energy recovery ventilation\n3. Understand fan power limitation calculations and how to determine if systems meet code limits\n4. Know when commissioning is required and identify what is needed to show compliance
URL:https://future.psdconsulting.com/calendar/c1-1-mechanical-systems-for-large-commercial-buildings-pt-1-14/
LOCATION:ONLINE – WEBINAR
CATEGORIES:Commercial,New York Energy Code Training
END:VEVENT
BEGIN:VEVENT
DTSTART;TZID=America/New_York:20220802T101500
DTEND;TZID=America/New_York:20220802T114500
DTSTAMP:20260421T154354
CREATED:20220711T143645Z
LAST-MODIFIED:20220711T143645Z
UID:16264-1659435300-1659440700@future.psdconsulting.com
SUMMARY:(C1.2) Lighting Systems for Large Commercial Buildings (Pt 2)
DESCRIPTION:NYSERDA Energy Code Training provided by Performance Systems Development \n(C1.2) Lighting Systems for Large Commercial Buildings Part 2 T02-07-2908 \nCOST:\nFree registration for New York Code Officials.*\nUse discount code: NYCEO\n*For use by New York Code Officials only.\nAll Others: $15.00 \nCONTINUING EDUCATION:\nArchitects: 1.5 AIA LU | HSW\nHome Performance Contractors: 1.5 BPI CEUs\nCode Enforcement Officials: 1.5 NYS DOS In-Service Hours \nTo receive credit\, participants must log into the GoToWebinar application within the first 15 minutes of the training and stay until the end of the webinar. VIDEO VIEWING IS REQUIRED! \nCOURSE DESCRIPTION\nLarge commercial buildings are common in large urban areas\, and while less common in suburban and rural areas\, they have large per-building energy impacts. This program will prepare design professionals and code enforcement officials to ensure their work results in buildings with better-than-average energy use intensities. \nAttendees will be asked to pinpoint the locations in construction documents where various lighting controls and equipment specifications are (or should be). Attendees will understand lighting power code requirements for both interior and exterior applications. Guided discussions will help attendees identify the best ways to provide adequate documentation on plans and inspect or elucidate control configurations in the field. \nLearning objectives:\n1- Understand the 2020 ECCCNYS code requirements for commercial lighting systems\n2- Understand lighting power density calculations and how to determine if building and space types meet code limits\n3- Understand how to do calculate exterior lighting power allowances\n4- How to provide evidence of lighting functional testing
URL:https://future.psdconsulting.com/calendar/c1-2-lighting-systems-for-large-commercial-buildings-pt-2-14/
LOCATION:ONLINE – WEBINAR
CATEGORIES:Commercial,New York Energy Code Training
END:VEVENT
BEGIN:VEVENT
DTSTART;TZID=America/New_York:20220818T083000
DTEND;TZID=America/New_York:20220818T100000
DTSTAMP:20260421T154354
CREATED:20220711T152755Z
LAST-MODIFIED:20220711T152755Z
UID:16283-1660811400-1660816800@future.psdconsulting.com
SUMMARY:(C3.1) - Simple Commercial Building Case Studies (Pt 1)
DESCRIPTION:NYSERDA Energy Code Training provided by Performance Systems Development \nC3.1 – Simple Commercial Building Case Studies Part 1 \nCOST:\nFree registration for New York Code Officials.*\nUse discount code: NYCEO\n*For use by New York Code Officials only.\nAll Others: $15.00 \nCONTINUING EDUCATION:\nArchitects: 1.5 AIA LU | HSW\nHome Performance Contractors: 1.5 BPI CEUs\nCode Enforcement Officials: 1.5 NYS DOS In-Service Hours \nTo receive credit\, participants must log into the GoToWebinar application within the first 15 minutes of the training and stay until the end of the webinar. VIDEO VIEWING IS REQUIRED! \nCOURSE DESCRIPTION:\nThis course will cover 2020 ECCCNYS requirements in the context of a retail building case study. The first portion of the program will cover owner-installed building envelope requirements for a typical retail store. The second portion will cover tenant-installed items\, including single-zone HVAC systems and lighting. The third and final portion of the program will be a plan review exercise with audience participation that is intended to enhance knowledge retention.
URL:https://future.psdconsulting.com/calendar/c3-1-simple-commercial-building-case-studies-pt-1-6/
LOCATION:ONLINE – WEBINAR
CATEGORIES:Commercial,New York Energy Code Training
END:VEVENT
BEGIN:VEVENT
DTSTART;TZID=America/New_York:20220818T101500
DTEND;TZID=America/New_York:20220818T114500
DTSTAMP:20260421T154354
CREATED:20220711T152948Z
LAST-MODIFIED:20220711T152948Z
UID:16285-1660817700-1660823100@future.psdconsulting.com
SUMMARY:(C3.2) - Simple Commercial Building Case Studies (Pt 2)
DESCRIPTION:NYSERDA Energy Code Training provided by Performance Systems Development \nC3.2- Simple Commercial Building Case Studies part 2 \nCOST:\nFree registration for New York Code Officials.*\nUse discount code: NYCEO\n*For use by New York Code Officials only.\nAll Others: $15.00 \nCONTINUING EDUCATION:\nArchitects: 1.5 AIA LU | HSW\nHome Performance Contractors: 1.5 BPI CEUs\nCode Enforcement Officials: 1.5 NYS DOS In-Service Hours \nTo receive credit\, participants must log into the GoToWebinar application within the first 15 minutes of the training and stay until the end of the webinar. VIDEO VIEWING IS REQUIRED! \nCOURSE DESCRIPTION\nThis course will cover 2020 ECCCNYS requirements in the context of two case studies. The first will be a change of occupancy from a warehouse or office to a 4-story mixed-use apartment building and the second will be a new office building. This course will cover envelope\, mechanical\, and lighting requirements for these building types and include an interactive example to test your knowledge and improve retention.
URL:https://future.psdconsulting.com/calendar/c3-2-simple-commercial-building-case-studies-pt-2-7/
LOCATION:ONLINE – WEBINAR
CATEGORIES:Commercial,New York Energy Code Training
END:VEVENT
BEGIN:VEVENT
DTSTART;TZID=America/New_York:20220825T083000
DTEND;TZID=America/New_York:20220825T100000
DTSTAMP:20260421T154354
CREATED:20220711T153907Z
LAST-MODIFIED:20220711T153907Z
UID:16291-1661416200-1661421600@future.psdconsulting.com
SUMMARY:(C2.1) Prioritizing ECCCNYS Enforcement for Commercial Buildings (Pt 1)
DESCRIPTION:NYSERDA Energy Code Training provided by Performance Systems Development \nC2.1 Prioritizing ECCCNYS Enforcement for Commercial Buildings (Pt 1) Envelope T02-07-2940 \nCOST:\nFree registration for New York Code Officials.*\nUse discount code: NYCEO\n*For use by New York Code Officials only.\nAll Others: $15.00 \nCONTINUING EDUCATION:\nArchitects: 1.5 AIA LU | HSW\nHome Performance Contractors: 1.5 BPI CEUs\nCode Enforcement Officials: 1.5 NYS DOS In-Service Hours \nTo receive credit\, participants must log into the GoToWebinar application within the first 15 minutes of the training and stay until the end of the webinar. VIDEO VIEWING IS REQUIRED! \nCOURSE DESCRIPTION\nIn a robust study of commercial buildings\, 21% of the energy code provisions investigated were responsible for 81% of the potential savings. This created a framework for prioritizing energy code enforcement efforts based on the time it takes to verify a code provision versus the energy savings potential. With code enforcement officials being strapped for time and having other life-health safety priorities\, this course\, Part 1 of a two-part series\, covering high-impact commercial envelope requirements\, will help them prioritize efforts\, improve compliance\, and maximize the realization of savings inherent in the energy code. \nLearning Objectives:\n1. Identify energy code envelope requirements with the greatest energy impacts and prioritize energy code documentation\n2. Describe a process for creating and reviewing plans that includes documenting and assessing the highest impact energy code provisions related to envelope\n3. Understand how to integrate provided construction details verification forms and checklists into normal compliance documentation or enforcement processes\n4. Identify permit application specifications that enable a simplified plan review process as well as a process for providing or collecting verification forms
URL:https://future.psdconsulting.com/calendar/c2-1-prioritizing-ecccnys-enforcement-for-commercial-buildings-pt-1-18/
LOCATION:ONLINE – WEBINAR
CATEGORIES:Commercial,New York Energy Code Training
END:VEVENT
BEGIN:VEVENT
DTSTART;TZID=America/New_York:20220825T101500
DTEND;TZID=America/New_York:20220825T114500
DTSTAMP:20260421T154354
CREATED:20220711T154021Z
LAST-MODIFIED:20220711T154021Z
UID:16293-1661422500-1661427900@future.psdconsulting.com
SUMMARY:(C2.2) Prioritizing ECCCNYS Enforcement for Commercial Buildings (Pt 2)
DESCRIPTION:NYSERDA Energy Code Training provided by Performance Systems Development \nC2.2 Prioritizing ECCCNYS Enforcement for Commercial Buildings Pt 2\nT02-07-2947 \nCOST:\nFree registration for New York Code Officials.*\nUse discount code: NYCEO\n*For use by New York Code Officials only.\nAll Others: $15.00 \nCONTINUING EDUCATION:\nArchitects: 1.5 AIA LU | HSW\nHome Performance Contractors: 1.5 BPI CEUs\nCode Enforcement Officials: 1.5 NYS DOS In-Service Hours \nTo receive credit\, participants must log into the GoToWebinar application within the first 15 minutes of the training and stay until the end of the webinar. VIDEO VIEWING IS REQUIRED! \nCOURSE DESCRIPTION:\nIn a robust study of commercial buildings\, 21% of the energy code provisions investigated were responsible for 81% of the potential savings. This created a framework for prioritizing energy code enforcement efforts based on the time it takes to verify a code provision versus the energy savings potential. With code enforcement officials being strapped for time and having other life-health safety priorities\, this course\, Part 2 of a two-part series\, covering high-impact commercial mechanical and lighting requirements\, will help them prioritize efforts\, improve compliance\, and maximize the realization of savings inherent in the energy code. \nLearning objectives:\n1- Identify the energy code requirements with the greatest energy impacts and prioritize energy code documentation\n2- Describe a process for creating and reviewing plans that includes documenting and assessing the highest impact energy code provisions\n3- Understand how to integrate provided construction details verification forms and checklists into normal compliance documentation or enforcement processes\n4- Identify permit application specifications that enable a simplified plan review process as well as a process for providing or collecting verification forms
URL:https://future.psdconsulting.com/calendar/c2-2-prioritizing-ecccnys-enforcement-for-commercial-buildings-pt-2-22/
LOCATION:ONLINE – WEBINAR
CATEGORIES:Commercial,New York Energy Code Training
END:VEVENT
END:VCALENDAR