BEGIN:VCALENDAR
VERSION:2.0
PRODID:-//PSD - ECPv6.3.6//NONSGML v1.0//EN
CALSCALE:GREGORIAN
METHOD:PUBLISH
X-WR-CALNAME:PSD
X-ORIGINAL-URL:https://future.psdconsulting.com
X-WR-CALDESC:Events for PSD
REFRESH-INTERVAL;VALUE=DURATION:PT1H
X-Robots-Tag:noindex
X-PUBLISHED-TTL:PT1H
BEGIN:VTIMEZONE
TZID:America/New_York
BEGIN:DAYLIGHT
TZOFFSETFROM:-0500
TZOFFSETTO:-0400
TZNAME:EDT
DTSTART:20220313T070000
END:DAYLIGHT
BEGIN:STANDARD
TZOFFSETFROM:-0400
TZOFFSETTO:-0500
TZNAME:EST
DTSTART:20221106T060000
END:STANDARD
END:VTIMEZONE
BEGIN:VEVENT
DTSTART;TZID=America/New_York:20221103T130000
DTEND;TZID=America/New_York:20221103T140000
DTSTAMP:20260423T022448
CREATED:20220711T204356Z
LAST-MODIFIED:20220817T182000Z
UID:16319-1667480400-1667484000@future.psdconsulting.com
SUMMARY:(C4.3) - Designers\, Builders\, and Code Officials Working Together
DESCRIPTION:Make sure to use the GoToWebinar link to obtain video access\, this is required and verified for CEU credit. VIDEO VIEWING IS REQUIRED! \nCEU’s: 1 CSL (Topic – Energy)\, 1 AIA\, 1 BPI\, 1 Code Official \nCom Designers\, Builders\, & Code Officials Working Together \nThe role of architects and designers versus builders and building owners regarding energy code compliant design and construction is not always clear. Architects and designers are responsible for providing compliant drawings but may not be tasked with handling third-party documentation or on-site supervision. Conflicts may arise when these roles are not clearly delineated in the scope of work. This module will cover various energy code documentation requirements and construction supervision duties and present various models and best practices for who is responsible for what. Code officials will also benefit from this session by gaining a more thorough understanding of documentation and verification processes.
URL:https://future.psdconsulting.com/calendar/c4-3-designers-builders-and-code-officials-working-together-2/
LOCATION:ONLINE – WEBINAR
CATEGORIES:Commercial,Massachusetts Energy Code Training
ATTACH;FMTTYPE=image/jpeg:https://future.psdconsulting.com/wp-content/uploads/2021/11/mass-save-campaign-e1641940204537.jpg
END:VEVENT
END:VCALENDAR