BEGIN:VCALENDAR
VERSION:2.0
PRODID:-//PSD - ECPv6.3.6//NONSGML v1.0//EN
CALSCALE:GREGORIAN
METHOD:PUBLISH
X-WR-CALNAME:PSD
X-ORIGINAL-URL:https://future.psdconsulting.com
X-WR-CALDESC:Events for PSD
REFRESH-INTERVAL;VALUE=DURATION:PT1H
X-Robots-Tag:noindex
X-PUBLISHED-TTL:PT1H
BEGIN:VTIMEZONE
TZID:America/New_York
BEGIN:DAYLIGHT
TZOFFSETFROM:-0500
TZOFFSETTO:-0400
TZNAME:EDT
DTSTART:20220313T070000
END:DAYLIGHT
BEGIN:STANDARD
TZOFFSETFROM:-0400
TZOFFSETTO:-0500
TZNAME:EST
DTSTART:20221106T060000
END:STANDARD
END:VTIMEZONE
BEGIN:VEVENT
DTSTART;TZID=America/New_York:20221027T100000
DTEND;TZID=America/New_York:20221027T143000
DTSTAMP:20260421T210403
CREATED:20220901T165453Z
LAST-MODIFIED:20220901T165453Z
UID:16528-1666864800-1666881000@future.psdconsulting.com
SUMMARY:ENERGY STAR Multifamily New Construction Rater Training
DESCRIPTION:To begin or maintain an active partnership with ENERGY STAR\, an organization must have at least one individual on staff who is a certified Rater and has completed the required training through an accredited training provider. Effective January 1st 2020\, Raters must complete the MFNC Version 1.1 Training prior to certifying projects in the new Multifamily New Construction ENERGY STAR program. This training meets this requirement\, and will earn you enough PDHs to renew your Rater Certification for 3 years! Test will be given following the final day of training. \nCONTACT US ABOUT GROUP TRAINING \nClasses will be Wednesday through Friday (10/26-10/28) from 10 AM EST to 2:30 PM EST. \nThe exam will be Friday (10/28) immediately following class and last 2 hours.
URL:https://future.psdconsulting.com/calendar/energy-star-multifamily-new-construction-rater-training-4-2022-10-27/
CATEGORIES:ENERGY STAR,PSD
END:VEVENT
BEGIN:VEVENT
DTSTART;TZID=America/New_York:20221027T100000
DTEND;TZID=America/New_York:20221027T143000
DTSTAMP:20260421T210403
CREATED:20220901T165737Z
LAST-MODIFIED:20220901T185842Z
UID:16535-1666864800-1666881000@future.psdconsulting.com
SUMMARY:ENERGY STAR Multifamily New Construction and Certified Homes
DESCRIPTION:To begin or maintain an active partnership with ENERGY STAR\, an organization must have at least one individual on staff who is a certified Rater and has completed the required training through an accredited training provider. This training combines the ENERGY STAR Certified Homes Version 3.1 training with the Multifamily New Construction ENERGY STAR Version 1.1 Training required by January 1\, 2020. This training meets this requirement\, and will earn you enough PDHs to renew your Rater Certification for 3 years! \nENERGY STAR Certified Homes – Monday & Tuesday (10/24-10/25). The exam will be on Tuesday (10/25) following the class. \nENERGY STAR Multi-Family New Construction – Wednesday through Friday (10/26-10/28). The exam will be on Friday (10/28) following the class. \nClasses daily from 10 AM EST to 2:30 PM EST. Exams will be from 2:30 PM EST to 4:30 PM EST
URL:https://future.psdconsulting.com/calendar/energy-star-multifamily-new-construction-and-certified-homes-3-2022-10-27/
CATEGORIES:ENERGY STAR,PSD
END:VEVENT
END:VCALENDAR