BEGIN:VCALENDAR
VERSION:2.0
PRODID:-//PSD - ECPv6.3.6//NONSGML v1.0//EN
CALSCALE:GREGORIAN
METHOD:PUBLISH
X-WR-CALNAME:PSD
X-ORIGINAL-URL:https://future.psdconsulting.com
X-WR-CALDESC:Events for PSD
REFRESH-INTERVAL;VALUE=DURATION:PT1H
X-Robots-Tag:noindex
X-PUBLISHED-TTL:PT1H
BEGIN:VTIMEZONE
TZID:America/New_York
BEGIN:DAYLIGHT
TZOFFSETFROM:-0500
TZOFFSETTO:-0400
TZNAME:EDT
DTSTART:20220313T070000
END:DAYLIGHT
BEGIN:STANDARD
TZOFFSETFROM:-0400
TZOFFSETTO:-0500
TZNAME:EST
DTSTART:20221106T060000
END:STANDARD
END:VTIMEZONE
BEGIN:VEVENT
DTSTART;TZID=America/New_York:20221019T130000
DTEND;TZID=America/New_York:20221019T140000
DTSTAMP:20260425T091311
CREATED:20220711T203544Z
LAST-MODIFIED:20220817T181753Z
UID:16313-1666184400-1666188000@future.psdconsulting.com
SUMMARY:(C4.2) - Third-Party Documentation & Does LEED = Code?
DESCRIPTION:Make sure to use the GoToWebinar link to obtain video access\, this is required and verified for CEU credit. VIDEO VIEWING IS REQUIRED! \nCEU’s: 1 CSL (Topic – Energy)\, 1 AIA\, 1 BPI\, 1 Code Official \nThird party providers can fulfill a variety of code compliance tests and measures with specialized expertise that may not be available or feasible for the design and construction teams. This presentation will discuss minimum third-party documentation for commercial code compliance\, including commissioning reports\, air barrier test reports\, and building energy simulations for performance-path compliance. Noting that many construction and renovation projects may simultaneously pursue LEED or ENERGY STAR® certification\, we will also compare these certifications’ energy performance standards with those required by the current Massachusetts energy code (780 CMR 9th edition) to explore the question of whether environmental building certifications are equivalent to code-compliant buildings. We will also provide guidance to assure that special inspections\, tests\, and certifications are documented for ease of compliance review and verification\, and how construction professionals can assure that everyone is on the same page\, and path\, to compliance.
URL:https://future.psdconsulting.com/calendar/c4-2-third-party-documentation-does-leed-code/
LOCATION:ONLINE – WEBINAR
CATEGORIES:Commercial,Massachusetts Energy Code Training
ATTACH;FMTTYPE=image/jpeg:https://future.psdconsulting.com/wp-content/uploads/2021/11/mass-save-campaign-e1641940204537.jpg
END:VEVENT
END:VCALENDAR