BEGIN:VCALENDAR
VERSION:2.0
PRODID:-//PSD - ECPv6.3.6//NONSGML v1.0//EN
CALSCALE:GREGORIAN
METHOD:PUBLISH
X-WR-CALNAME:PSD
X-ORIGINAL-URL:https://future.psdconsulting.com
X-WR-CALDESC:Events for PSD
REFRESH-INTERVAL;VALUE=DURATION:PT1H
X-Robots-Tag:noindex
X-PUBLISHED-TTL:PT1H
BEGIN:VTIMEZONE
TZID:America/New_York
BEGIN:DAYLIGHT
TZOFFSETFROM:-0500
TZOFFSETTO:-0400
TZNAME:EDT
DTSTART:20220313T070000
END:DAYLIGHT
BEGIN:STANDARD
TZOFFSETFROM:-0400
TZOFFSETTO:-0500
TZNAME:EST
DTSTART:20221106T060000
END:STANDARD
END:VTIMEZONE
BEGIN:VEVENT
DTSTART;TZID=America/New_York:20221018T130000
DTEND;TZID=America/New_York:20221018T140000
DTSTAMP:20260424T090343
CREATED:20220711T203329Z
LAST-MODIFIED:20220817T181646Z
UID:16311-1666098000-1666101600@future.psdconsulting.com
SUMMARY:(C4.1) - Documentation for Energy Code Permit Applications
DESCRIPTION:Make sure to use the GoToWebinar link to obtain video access\, this is required and verified for CEU credit. VIDEO VIEWING IS REQUIRED! \nCEU’s: 1 CSL (Topic – Code)\, 1 AIA\, 1 BPI\, 1 Code Official \nA significant barrier to energy code enforcement and verification in Massachusetts is the poor documentation of those code requirements on plans and permit application materials. This energy code documentation module will run through what code officials should ask for\, and what designers or other permit applicants (GCs\, builders) should submit\, in terms of proper documentation for permit applications. Handouts include Commercial Permit Applicant Documents Checklists and Plan Review Documentation Checklists to work with along with the presenter. This session will walk through the checklist\, COMcheck reports and the reasons behind their requirement by the code and their best usage in plan review and site inspection.
URL:https://future.psdconsulting.com/calendar/c4-1-documentation-for-energy-code-permit-applications/
LOCATION:ONLINE – WEBINAR
CATEGORIES:Commercial,Massachusetts Energy Code Training
ATTACH;FMTTYPE=image/jpeg:https://future.psdconsulting.com/wp-content/uploads/2021/11/mass-save-campaign-e1641940204537.jpg
END:VEVENT
END:VCALENDAR