BEGIN:VCALENDAR
VERSION:2.0
PRODID:-//PSD - ECPv6.3.6//NONSGML v1.0//EN
CALSCALE:GREGORIAN
METHOD:PUBLISH
X-WR-CALNAME:PSD
X-ORIGINAL-URL:https://future.psdconsulting.com
X-WR-CALDESC:Events for PSD
REFRESH-INTERVAL;VALUE=DURATION:PT1H
X-Robots-Tag:noindex
X-PUBLISHED-TTL:PT1H
BEGIN:VTIMEZONE
TZID:America/New_York
BEGIN:DAYLIGHT
TZOFFSETFROM:-0500
TZOFFSETTO:-0400
TZNAME:EDT
DTSTART:20220313T070000
END:DAYLIGHT
BEGIN:STANDARD
TZOFFSETFROM:-0400
TZOFFSETTO:-0500
TZNAME:EST
DTSTART:20221106T060000
END:STANDARD
END:VTIMEZONE
BEGIN:VEVENT
DTSTART;TZID=America/New_York:20220921T083000
DTEND;TZID=America/New_York:20220921T100000
DTSTAMP:20260423T022508
CREATED:20220808T142451Z
LAST-MODIFIED:20220808T142451Z
UID:16398-1663749000-1663754400@future.psdconsulting.com
SUMMARY:(M1.1) - Multifamily Air Sealing
DESCRIPTION:NYSERDA Energy Code Training provided by Performance Systems Development \nM1.1 – Multifamily Air Sealing \nCOST:\nFree registration for New York Code Officials.*\nUse discount code: NYCEO\n*For use by New York Code Officials only.\nAll Others: $15.00 \nCONTINUING EDUCATION:\nArchitects: 1.5 AIA LU | HSW\nHome Performance Contractors: 1.5 BPI CEUs\nCode Enforcement Officials: 1.5 NYS DOS In-Service Hours \nTo receive credit\, participants must log into the GoToWebinar application within the first 15 minutes of the training and stay until the end of the webinar. VIDEO VIEWING IS REQUIRED! \nCOURSE DESCRIPTION\nThis course will cover 2020 ECCCNYS requirements in the context of multifamily buildings. The first portion of the program will cover the energy code requirements for multifamily buildings. The second portion of the program will cover the energy code requirements as they apply to residential buildings in respect to air sealing. The third portion of the program will cover the energy code requirements for commercial buildings in respect to air sealing. The fourth and final portion of program will explore additional opportunities such as NYStretch and details to be considered \nAfter taking this course\, attendees will be able to…\ni. Understand the scope of the residential versus the commercial provisions of the ECCCNYS regarding multifamily buildings\nii. Identify and eliminate the biggest sources of air leakage in multifamily buildings\niii. Describe various\, important air sealing design and construction details\niv. Better understand the Energy Code’s requirements for air barrier construction and testing
URL:https://future.psdconsulting.com/calendar/m1-1-multifamily-air-sealing-5/
LOCATION:ONLINE – WEBINAR
CATEGORIES:Multifamily,New York Energy Code Training
END:VEVENT
BEGIN:VEVENT
DTSTART;TZID=America/New_York:20220921T101500
DTEND;TZID=America/New_York:20220921T114500
DTSTAMP:20260423T022508
CREATED:20220808T142600Z
LAST-MODIFIED:20220808T142600Z
UID:16400-1663755300-1663760700@future.psdconsulting.com
SUMMARY:(M1.2) - Multifamily Thermal Bridging
DESCRIPTION:NYSERDA Energy Code Training provided by Performance Systems Development \nCOST:\nFree registration for New York Code Officials.*\nUse discount code: NYCEO\n*For use by New York Code Officials only.\nAll Others: $15.00 \nCONTINUING EDUCATION:\nArchitects: 1.5 AIA LU | HSW\nHome Performance Contractors: 1.5 BPI CEUs\nCode Enforcement Officials: 1.5 NYS DOS In-Service Hours \nTo receive credit\, participants must log into the GoToWebinar application within the first 15 minutes of the training and stay until the end of the webinar. VIDEO VIEWING IS REQUIRED! \n 
URL:https://future.psdconsulting.com/calendar/m1-2-multifamily-thermal-bridging-5/
LOCATION:ONLINE – WEBINAR
CATEGORIES:Multifamily,New York Energy Code Training
END:VEVENT
BEGIN:VEVENT
DTSTART;TZID=America/New_York:20220921T130000
DTEND;TZID=America/New_York:20220921T140000
DTSTAMP:20260423T022508
CREATED:20220711T200835Z
LAST-MODIFIED:20220817T181301Z
UID:16307-1663765200-1663768800@future.psdconsulting.com
SUMMARY:(C3.1) - Commercial Air Barriers- Three Options for Compliance
DESCRIPTION:Make sure to use the GoToWebinar link to obtain video access\, this is required and verified for CEU credit. VIDEO VIEWING IS REQUIRED! \nCEU’s: 1 CSL (Topic – Energy)\, 1 AIA\, 1 BPI\, 1 Code Official \nCommercial Webinar – Commercial Air Barriers-3 options for Compliance \nCOURSE DESCRIPTION\nThis course will cover Massachusetts 9th Edition energy code requirements for commercial building air barriers\, including those in ASHRAE 90.1-2016 and the 2018 IECC. The course will clarify these requirements for better specification by designers and easier review by code enforcement officials. The course is organized around examples that show differences between systems-based\, assembly-based\, and testing-based compliance options. This introductory course will provide background for a subsequent and more advanced air barrier strategy module. \nLEARNING OBJECTIVES:\n1- Examine the basic requirements for commercial building air barriers in the Massachusetts 9th Edition and reference 2018 IECC and ASHRAE 90.1‐2016.​ \n2- Understand the benefits of the air barrier systems to the environment\, building owner\, and occupants​ \n3- Discuss performance test standards relating to air barrier systems\, including the NFPA 285 fire test.​\n​\n4- Determine what complies as a performance-based air barrier system and how to enforce that requirement​
URL:https://future.psdconsulting.com/calendar/c3-1-commercial-air-barriers-three-options-for-compliance/
LOCATION:ONLINE – WEBINAR
CATEGORIES:Commercial,Massachusetts Energy Code Training
ATTACH;FMTTYPE=image/jpeg:https://future.psdconsulting.com/wp-content/uploads/2021/11/mass-save-campaign-e1641940204537.jpg
END:VEVENT
END:VCALENDAR