BEGIN:VCALENDAR
VERSION:2.0
PRODID:-//PSD - ECPv6.3.6//NONSGML v1.0//EN
CALSCALE:GREGORIAN
METHOD:PUBLISH
X-WR-CALNAME:PSD
X-ORIGINAL-URL:https://future.psdconsulting.com
X-WR-CALDESC:Events for PSD
REFRESH-INTERVAL;VALUE=DURATION:PT1H
X-Robots-Tag:noindex
X-PUBLISHED-TTL:PT1H
BEGIN:VTIMEZONE
TZID:America/New_York
BEGIN:DAYLIGHT
TZOFFSETFROM:-0500
TZOFFSETTO:-0400
TZNAME:EDT
DTSTART:20220313T070000
END:DAYLIGHT
BEGIN:STANDARD
TZOFFSETFROM:-0400
TZOFFSETTO:-0500
TZNAME:EST
DTSTART:20221106T060000
END:STANDARD
END:VTIMEZONE
BEGIN:VEVENT
DTSTART;TZID=America/New_York:20220920T130000
DTEND;TZID=America/New_York:20220920T161500
DTSTAMP:20260422T160448
CREATED:20220425T204040Z
LAST-MODIFIED:20220817T180428Z
UID:16054-1663678800-1663690500@future.psdconsulting.com
SUMMARY:R4.4 - The Massachusetts Stretch Energy Code for HERS Raters
DESCRIPTION:Make sure to use the GoToWebinar link to obtain video access\, this is required and verified for CEU credit. VIDEO VIEWING IS REQUIRED! \nCEU’s: 3 AIA\, 3 BPI\, 3 Code Official \nCOURSE DESCRIPTION:\nMassachusetts Stretch Energy Code incorporates a blend of energy rating requirements and International Energy Conservation Code (IECC) requirements\, which often leads to confusion. This course covers the requirements of the Energy Rating Index (ERI) path\, as amended by Massachusetts\, and IECC “mandatory” requirements. This course\, specifically designed for HERS Raters\, reviews details of the ERI path\, including rating standard options\, renewable energy bonuses\, and verification and documentation requirements. It will also discuss every IECC requirement that is mandatory under the ERI path\, including envelope\, mechanical system\, service hot water\, and whole-house mechanical ventilation. The Stretch Code requires a completed ENERGY STAR Thermal Enclosure System Checklist\, and this course will provide a review of the items required on this checklist in comparison to the IECC Air Barrier and Insulation Installation Criteria\, which are also required. The course will also describe duct leakage testing requirements\, including IECC and RESNET 301 testing exemptions and related modeling issues. Finally\, the course will briefly touch on the alternative ERI path (ENERGY STAR Homes and Passive House)\, EV-Ready requirements\, and solar-ready requirements.
URL:https://future.psdconsulting.com/calendar/r4-4-the-massachusetts-stretch-energy-code-for-hers-raters-2/
LOCATION:ONLINE – WEBINAR
CATEGORIES:Massachusetts Energy Code Training,Residential
ATTACH;FMTTYPE=image/jpeg:https://future.psdconsulting.com/wp-content/uploads/2021/11/mass-save-campaign-e1641940204537.jpg
END:VEVENT
END:VCALENDAR