BEGIN:VCALENDAR
VERSION:2.0
PRODID:-//PSD - ECPv6.3.6//NONSGML v1.0//EN
CALSCALE:GREGORIAN
METHOD:PUBLISH
X-WR-CALNAME:PSD
X-ORIGINAL-URL:https://future.psdconsulting.com
X-WR-CALDESC:Events for PSD
REFRESH-INTERVAL;VALUE=DURATION:PT1H
X-Robots-Tag:noindex
X-PUBLISHED-TTL:PT1H
BEGIN:VTIMEZONE
TZID:America/New_York
BEGIN:DAYLIGHT
TZOFFSETFROM:-0500
TZOFFSETTO:-0400
TZNAME:EDT
DTSTART:20220313T070000
END:DAYLIGHT
BEGIN:STANDARD
TZOFFSETFROM:-0400
TZOFFSETTO:-0500
TZNAME:EST
DTSTART:20221106T060000
END:STANDARD
END:VTIMEZONE
BEGIN:VEVENT
DTSTART;TZID=America/New_York:20220908T083000
DTEND;TZID=America/New_York:20220908T100000
DTSTAMP:20260422T105614
CREATED:20220808T141100Z
LAST-MODIFIED:20220808T141100Z
UID:16382-1662625800-1662631200@future.psdconsulting.com
SUMMARY:(S2.1) NYStretch Energy Code for Residential Buildings 90 minute (Pt 1)
DESCRIPTION:NYSERDA Energy Code Training provided by Performance Systems Development \nS2.1 NYStretch Energy Code for Residential Buildings 90 minute (Pt 1) T02- 07-2977 \nCOST:\nFree registration for New York Code Officials.*\nUse discount code: NYCEO\n*For use by New York Code Officials only.\nAll Others: $15.00 \nCONTINUING EDUCATION:\nArchitects: 1.5 AIA LU | HSW\nHome Performance Contractors: 1.5 BPI CEUs\nCode Enforcement Officials: 1.5 NYS DOS In-Service Hours \nTo receive credit\, participants must log into the GoToWebinar application within the first 15 minutes of the training and stay until the end of the webinar. VIDEO VIEWING IS REQUIRED! \nCOURSE DESCRIPTION\nThis course is Part 1 of a two-part series covering the envelope requirements for residential buildings in the NYStretch Code. We also discuss the intention and benefits of this voluntary code and its relationship to the New York City energy code. \nLearning objectives:\n1. Understand the intent and savings potential of the residential provisions of NYStretch\n2. Identify all available energy code compliance pathways under NYStretch\n3. Identify differences between NYStretch (or NYCECC) and the base code\n4. Identify and understand all mandatory requirements (items that must be met regardless of compliance path)
URL:https://future.psdconsulting.com/calendar/s2-1-nystretch-energy-code-for-residential-buildings-90-minute-pt-1-31/
LOCATION:ONLINE – WEBINAR
CATEGORIES:New York Energy Code Training,Stretch Code
END:VEVENT
BEGIN:VEVENT
DTSTART;TZID=America/New_York:20220908T101500
DTEND;TZID=America/New_York:20220908T114500
DTSTAMP:20260422T105614
CREATED:20220808T141224Z
LAST-MODIFIED:20220808T141224Z
UID:16384-1662632100-1662637500@future.psdconsulting.com
SUMMARY:(S2.2) NYStretch Energy Code for Residential Buildings 90 minute (Pt 2)
DESCRIPTION:NYSERDA Energy Code Training provided by Performance Systems Development \n(S2.2) NYStretch Energy Code for Residential Buildings 90 minute (Pt 2) T02-07-2976 \nCOST:\nFree registration for New York Code Officials.*\nUse discount code: NYCEO\n*For use by New York Code Officials only.\nAll Others: $15.00 \nCONTINUING EDUCATION:\nArchitects: 1.5 AIA LU | HSW\nHome Performance Contractors: 1.5 BPI CEUs\nCode Enforcement Officials: 1.5 NYS DOS In-Service Hours \nTo receive credit\, participants must log into the GoToWebinar application within the first 15 minutes of the training and stay until the end of the webinar. VIDEO VIEWING IS REQUIRED! \nCOURSE DESCRIPTION\nThis course is Part 2 of a two-part series and covers the mechanical\, plumbing and lighting requirements for residential buildings in the NYStretch Code\, as well as requirements covering electric power systems. We will also discuss the relationship of this voluntary code to the mandatory New York City energy code. \nLearning objectives:\n1. Identify how mechanical equipment efficiencies and lighting factor into each energy code compliance option under NYStretch\n2. Identify differences between NYStretch the base code for mechanical\, plumbing and lighting systems\n3. Understand the Electric Power (Solar-ready and EV-ready) requirements\n4. Identify and understand all mandatory requirements (items that must be met regardless of compliance path)
URL:https://future.psdconsulting.com/calendar/s2-2-nystretch-energy-code-for-residential-buildings-90-minute-pt-2-31/
LOCATION:ONLINE – WEBINAR
CATEGORIES:New York Energy Code Training,Stretch Code
END:VEVENT
BEGIN:VEVENT
DTSTART;TZID=America/New_York:20220908T130000
DTEND;TZID=America/New_York:20220908T140000
DTSTAMP:20260422T105614
CREATED:20220711T200304Z
LAST-MODIFIED:20220817T181128Z
UID:16303-1662642000-1662645600@future.psdconsulting.com
SUMMARY:(C2.2) - COMcheck Case Study – Simple Commercial Building Case Study
DESCRIPTION:Make sure to use the GoToWebinar link to obtain video access\, this is required and verified for CEU credit. VIDEO VIEWING IS REQUIRED! \nCEU’s: 1 CSL (Topic – Energy)\, 1AIA\, I BPI\, 1 Code Official \nCommercial Webinar – COMcheck Case Study – Simple Commercial Building Case Study \nCOURSE DESCRIPTION\nCOMcheck is most often used as a compliance tool for simple commercial buildings and it is easily adapted to renovations. As of January 1\, 2018\, COMcheck report submittals are required by the Massachusetts 9th Edition and its Energy Code. In this course\, through the lens of a simple building case study\, attendees will learn about entering data into COMcheck and conducting a simple commercial plan review for code compliance. The presentation will highlight the most commonly observed entry errors and inconsistencies\, including reference to building plans and specifications. Finally\, the instructor will prepare attendees to conduct site inspections using the site inspection checklist tool. \nLEARNING OBJECTIVES:\nHow to use COMcheck
URL:https://future.psdconsulting.com/calendar/c2-2-comcheck-case-study-simple-commercial-building-case-study/
LOCATION:ONLINE – WEBINAR
CATEGORIES:Commercial,Massachusetts Energy Code Training
ATTACH;FMTTYPE=image/jpeg:https://future.psdconsulting.com/wp-content/uploads/2021/11/mass-save-campaign-e1641940204537.jpg
END:VEVENT
END:VCALENDAR