BEGIN:VCALENDAR
VERSION:2.0
PRODID:-//PSD - ECPv6.3.6//NONSGML v1.0//EN
CALSCALE:GREGORIAN
METHOD:PUBLISH
X-WR-CALNAME:PSD
X-ORIGINAL-URL:https://future.psdconsulting.com
X-WR-CALDESC:Events for PSD
REFRESH-INTERVAL;VALUE=DURATION:PT1H
X-Robots-Tag:noindex
X-PUBLISHED-TTL:PT1H
BEGIN:VTIMEZONE
TZID:America/New_York
BEGIN:DAYLIGHT
TZOFFSETFROM:-0500
TZOFFSETTO:-0400
TZNAME:EDT
DTSTART:20220313T070000
END:DAYLIGHT
BEGIN:STANDARD
TZOFFSETFROM:-0400
TZOFFSETTO:-0500
TZNAME:EST
DTSTART:20221106T060000
END:STANDARD
END:VTIMEZONE
BEGIN:VEVENT
DTSTART;TZID=America/New_York:20220524T083000
DTEND;TZID=America/New_York:20220524T100000
DTSTAMP:20260425T205239
CREATED:20220413T224117Z
LAST-MODIFIED:20220503T173705Z
UID:15957-1653381000-1653386400@future.psdconsulting.com
SUMMARY:(C1.1) Mechanical Systems for Large Commercial Buildings (Pt 1)
DESCRIPTION:NYSERDA Energy Code Training provided by Performance Systems Development \n(C1.1) Mechanical Systems for Large Commercial Buildings (Part 1)\nT02-07-2910 \nCOST:\nFree registration for New York Code Officials.*\nUse discount code: NYCEO\n*For use by New York Code Officials only.\nAll Others: $15.00 \nCONTINUING EDUCATION:\nArchitects: 1.5 AIA LU | HSW\nHome Performance Contractors: 1.5 BPI CEUs\nCode Enforcement Officials: 1.5 NYS DOS In-Service Hours \nTo receive credit\, participants must log into the GoToWebinar application within the first 15 minutes of the training and stay until the end of the webinar. VIDEO VIEWING IS REQUIRED! \nCOURSE DESCRIPTION:\nLarge commercial buildings are common in large urban areas\, and while less common in suburban and rural areas\, they have large per-building energy impacts. This program will prepare design professionals and code enforcement officials ensure their work results in buildings with better-than-average energy use intensities.\nAttendees will be asked to pinpoint the locations in construction documents where various mechanical controls and equipment specifications are (or should be). Guided discussions will help attendees identify the best ways to provide adequate documentation on plans and inspect or elucidate control configurations in the field. \nLearning Objectives:\nAttendees will be able to…\n1. Understand the types and basic functions of common and complex HVAC systems\n2. Identify where ventilation and related equipment are required including economizers\, demand-controlled ventilation\, and energy recovery ventilation\n3. Understand fan power limitation calculations and how to determine if systems meet code limits\n4. Know when commissioning is required and identify what is needed to show compliance
URL:https://future.psdconsulting.com/calendar/c1-1-mechanical-systems-for-large-commercial-buildings-pt-1-13/
LOCATION:ONLINE – WEBINAR
CATEGORIES:Commercial,New York Energy Code Training
END:VEVENT
BEGIN:VEVENT
DTSTART;TZID=America/New_York:20220524T083000
DTEND;TZID=America/New_York:20220524T114500
DTSTAMP:20260425T205239
CREATED:20220314T043316Z
LAST-MODIFIED:20220503T185427Z
UID:15842-1653381000-1653392700@future.psdconsulting.com
SUMMARY:The 2018 IECC for Pennsylvania - Residential
DESCRIPTION:Description:\nThe 2018 IECC went into effect on February 14\, 2022 (happy Valentine’s Day!) bringing with it significant energy savings\, mainly from improved envelope tightness. This training will include a high-level review of building science concepts including basic thermodynamics (how heat moves)\, including stack effect\, and conditions that result in optimum occupant comfort. The program will focus on high-impact energy code provisions and items with relatively high noncompliance as found by a DOE/PNNL field study completed in 2018. Specific topics will include envelope insulation\, air sealing\, and testing\, whole-house mechanical ventilation\, HVAC equipment sizing\, duct insulation\, sealing\, and testing\, and service hot water pipe insulation and circulating system controls. Instructors will also present the use of checklists and third-party verification forms. \nLearning objectives:\n1. Identify significant changes between the 2015 and 2018 IECC\n2. Describe the science behind building energy efficiency and occupant comfort and productivity\n3. Identify the energy code provisions with high impact but low compliance rates\n4. Understand how reduced air infiltration rate requirements will impact design\, construction\, and code enforcement \nContinuing education: Three (3) hours. PA UCC\, ICC\, AIA LU|HSW\, NARI\, RESNET\, BPI
URL:https://future.psdconsulting.com/calendar/the-2018-iecc-for-pennsylvania-residential-3/
CATEGORIES:Pennsylvania Energy Code Training,Residential
END:VEVENT
BEGIN:VEVENT
DTSTART;TZID=America/New_York:20220524T101500
DTEND;TZID=America/New_York:20220524T114500
DTSTAMP:20260425T205239
CREATED:20220413T224330Z
LAST-MODIFIED:20220503T173753Z
UID:15959-1653387300-1653392700@future.psdconsulting.com
SUMMARY:(C1.2) Lighting Systems for Large Commercial Buildings (Pt 2)
DESCRIPTION:NYSERDA Energy Code Training provided by Performance Systems Development \n(C1.2) Lighting Systems for Large Commercial Buildings Part 2 T02-07-2908 \nCOST:\nFree registration for New York Code Officials.*\nUse discount code: NYCEO\n*For use by New York Code Officials only.\nAll Others: $15.00 \nCONTINUING EDUCATION:\nArchitects: 1.5 AIA LU | HSW\nHome Performance Contractors: 1.5 BPI CEUs\nCode Enforcement Officials: 1.5 NYS DOS In-Service Hours \nTo receive credit\, participants must log into the GoToWebinar application within the first 15 minutes of the training and stay until the end of the webinar. VIDEO VIEWING IS REQUIRED! \nCOURSE DESCRIPTION\nLarge commercial buildings are common in large urban areas\, and while less common in suburban and rural areas\, they have large per-building energy impacts. This program will prepare design professionals and code enforcement officials to ensure their work results in buildings with better-than-average energy use intensities. \nAttendees will be asked to pinpoint the locations in construction documents where various lighting controls and equipment specifications are (or should be). Attendees will understand lighting power code requirements for both interior and exterior applications. Guided discussions will help attendees identify the best ways to provide adequate documentation on plans and inspect or elucidate control configurations in the field. \nLearning objectives:\n1- Understand the 2020 ECCCNYS code requirements for commercial lighting systems\n2- Understand lighting power density calculations and how to determine if building and space types meet code limits\n3- Understand how to do calculate exterior lighting power allowances\n4- How to provide evidence of lighting functional testing
URL:https://future.psdconsulting.com/calendar/c1-2-lighting-systems-for-large-commercial-buildings-pt-2-13/
LOCATION:ONLINE – WEBINAR
CATEGORIES:Commercial,New York Energy Code Training
END:VEVENT
BEGIN:VEVENT
DTSTART;TZID=America/New_York:20220524T170000
DTEND;TZID=America/New_York:20220524T180000
DTSTAMP:20260425T205239
CREATED:20220426T200127Z
LAST-MODIFIED:20220503T183216Z
UID:16063-1653411600-1653415200@future.psdconsulting.com
SUMMARY:(R4.1) - Stretch Code Overview and Compliance Options - (PRIVATE EVENT - MVBA)
DESCRIPTION:PRIVATE EVENT – Remote Training/Remote Learning – Contact MVBA Katrina Lima at katrinaad20@gmail.com to register. \nMake sure to use the GoToWebinar link to obtain video access\, this is required and verified for CEU credit. VIDEO VIEWING IS REQUIRED! \nCEUs: 1 AIA\, 1 BPI\, 1 CSL\, 1 Building official \nResidential Webinar – Stretch Code Overview and Compliance Options \nCOURSE DESCRIPTION:\nThis course discusses energy code provisions specific to the Massachusetts stretch code\, including the three available compliance paths – RESNET HERS\, Passive House and ENERGY STAR. The presenter will also discuss how renewable energy tradeoffs for technologies such as solar PV\, solar thermal systems\, clean biomass stoves\, or renewable primary heating systems. Available software programs and required documentation for each of these compliance paths will be examined. \nLEARNING OBJECTIVES:\nLearning Objective 1:\nIdentifies the Massachusetts residential stretch energy code document and software requirements\nLearning Objective 2:\nDiscusses and identifies the requirements in order to meet the RESNET HERS energy code compliance path\nLearning Objective 3:\nDiscusses and identifies the requirements in order to meet the Energy Star energy code compliance path\nLearning Objective 4:\nDiscusses and identifies the requirements in order to meet the Passive House energy code compliance path
URL:https://future.psdconsulting.com/calendar/r4-1-stretch-code-overview-and-compliance-options-private-event-mvba/
LOCATION:ONLINE – WEBINAR
CATEGORIES:Massachusetts Energy Code Training,PRIVATE EVENT,Residential
ATTACH;FMTTYPE=image/jpeg:https://future.psdconsulting.com/wp-content/uploads/2021/11/mass-save-campaign-e1641940204537.jpg
ORGANIZER;CN="MVBA":MAILTO:katrinaad20@gmail.com
END:VEVENT
END:VCALENDAR