BEGIN:VCALENDAR
VERSION:2.0
PRODID:-//PSD - ECPv6.3.6//NONSGML v1.0//EN
CALSCALE:GREGORIAN
METHOD:PUBLISH
X-ORIGINAL-URL:https://future.psdconsulting.com
X-WR-CALDESC:Events for PSD
REFRESH-INTERVAL;VALUE=DURATION:PT1H
X-Robots-Tag:noindex
X-PUBLISHED-TTL:PT1H
BEGIN:VTIMEZONE
TZID:America/New_York
BEGIN:DAYLIGHT
TZOFFSETFROM:-0500
TZOFFSETTO:-0400
TZNAME:EDT
DTSTART:20220313T070000
END:DAYLIGHT
BEGIN:STANDARD
TZOFFSETFROM:-0400
TZOFFSETTO:-0500
TZNAME:EST
DTSTART:20221106T060000
END:STANDARD
END:VTIMEZONE
BEGIN:VEVENT
DTSTART;TZID=America/New_York:20220517T083000
DTEND;TZID=America/New_York:20220517T100000
DTSTAMP:20260424T113438
CREATED:20220413T222825Z
LAST-MODIFIED:20220503T173202Z
UID:15945-1652776200-1652781600@future.psdconsulting.com
SUMMARY:(R1.1) Residential Energy Plan Reviews in 15 Minutes or Less (Pt 1)
DESCRIPTION:NYSERDA Energy Code Training provided by Performance Systems Development \nResidential Energy Plan Reviews in 15 Minutes or Less (Pt 1) T02-07-2829 \nCOST:\nFree registration for New York Code Officials.*\nUse discount code: NYCEO\n*For use by New York Code Officials only.\nAll Others: $15.00 \nCONTINUING EDUCATION:\nArchitects: 1.5 AIA LU | HSW\nHome Performance Contractors: 1.5 BPI CEUs\nCode Enforcement Officials: 1.5 NYS DOS In-Service Hours \nTo receive credit\, participants must log into the GoToWebinar application within the first 15 minutes of the training and stay until the end of the webinar. VIDEO VIEWING IS REQUIRED! \nCOURSE DESCRIPTION\nCountless previous research shows that code officials have very limited time to perform thorough plan reviews and that energy code provisions are often the first items to be jettisoned. This webinar is Part 1 of a two-part series\, and will not only help code officials\, but also those responsible for preparing construction documents. Participants will understand what’s required to do quick – yet thorough – document submittals and plan reviews. Sample checklists\, worksheets and other forms will be discussed and downloadable. \nLEARNING OBJECTIVES:\n1. Describe a process for reviewing residential plans that includes assessing the highest impact energy code provisions\n2. Understand the inputs to provided forms and checklists such as duct and envelope testing verification and HVAC design forms and integrate them into your organization’s normal compliance documentation or enforcement processes\n3. Recreate a timeline that includes which construction details and verification forms needed to be provided/collected\n4. Describe how third-party energy professionals such as duct and envelope testers and HERS Raters fit into the inspection process
URL:https://future.psdconsulting.com/calendar/r1-1-residential-energy-plan-reviews-in-15-minutes-or-less-pt-1-17/
LOCATION:ONLINE – WEBINAR
CATEGORIES:New York Energy Code Training,Residential
END:VEVENT
BEGIN:VEVENT
DTSTART;TZID=America/New_York:20220517T101500
DTEND;TZID=America/New_York:20220517T114500
DTSTAMP:20260424T113438
CREATED:20220413T223102Z
LAST-MODIFIED:20220503T173218Z
UID:15947-1652782500-1652787900@future.psdconsulting.com
SUMMARY:(R1.2) Residential Energy Inspections in 15 Minutes or Less (Pt 2)
DESCRIPTION:NYSERDA Energy Code Training provided by Performance Systems Development \nResidential Energy Inspections in 15 Minutes or Less (Pt 2) T02-07-2863 \nCOST:\nFree registration for New York Code Officials.*\nUse discount code: NYCEO\n*For use by New York Code Officials only.\nAll Others: $15.00 \nCONTINUING EDUCATION:\nArchitects: 1.5 AIA LU | HSW\nHome Performance Contractors: 1.5 BPI CEUs\nCode Enforcement Officials: 1.5 NYS DOS In-Service Hours \nTo receive credit\, participants must log into the GoToWebinar application within the first 15 minutes of the training and stay until the end of the webinar. VIDEO VIEWING IS REQUIRED! \nCOURSE DESCRIPTION:\nCountless previous research shows that code officials have very limited time to perform thorough energy code inspections. This 90-minute webinar will cover the five required inspections: footing and foundation; Framing and rough-in; Plumbing\, Mechanical and Final. Part 2 of a two-part series\, this course will not only help code officials but also those responsible for designing and constructing residential buildings. Participants will understand what’s required to do quick – yet thorough – site inspections. Sample inspection checklists\, worksheets and other forms will be discussed and downloadable. \nLearning objectives:\nAfter taking this course\, attendees will be able to…\n1. Describe a process for inspecting residential construction that includes assessing the highest impact energy code provisions\n2. Understand the inputs to provided forms and checklists such as duct and envelope testing verification and HVAC design forms and integrate them into your organization’s compliance documentation or enforcement processes\n3. Recreate a timeline that includes which construction details and verification forms need to be provided/collected and when in the design/construction process\n4. Describe how third-party energy professionals such as duct and envelope testers and HERS Raters fit into the inspection process
URL:https://future.psdconsulting.com/calendar/r1-2-residential-energy-inspections-in-15-minutes-or-less-pt-2-17/
LOCATION:ONLINE – WEBINAR
CATEGORIES:New York Energy Code Training,Residential
END:VEVENT
BEGIN:VEVENT
DTSTART;TZID=America/New_York:20220517T170000
DTEND;TZID=America/New_York:20220517T180000
DTSTAMP:20260424T113438
CREATED:20220426T195740Z
LAST-MODIFIED:20220503T182632Z
UID:16061-1652806800-1652810400@future.psdconsulting.com
SUMMARY:(R3.3) - Residential Ventilation Done Right. How and Why (PRIVATE EVENT - MVBA)
DESCRIPTION:Private Event – Remote Training/Remote Learning –  contact MVBA Katrina Lima at katrinaad20@gmail.com to register. \nMake sure to use the GoToWebinar link to obtain video access\, this is required and verified for CEU credit. VIDEO VIEWING IS REQUIRED! \nCEU’s: 1 AIA\, 1 BPI\, 1 CSL\, 1 Building official \nResidential Webinar – Residential Ventilation Done Right. How and Why. \nCOURSE DESCRIPTION:\nPart 1 and 2 Mechanical ventilation is as important to indoor air quality as it is for energy conservation. The second part of the course will cover 2018 IECC\, IRC\, and Massachusetts amendments relating to whole-house mechanical ventilation system requirements. This will include when whole-house ventilation is required\, how to calculate the minimum design airflow rate\, and how to verify installed airflow rates. The presenter will also provide an overview of different ventilation systems – exhaust only\, supply-only and balanced ventilation (including ERVs/HRVs) – along with pros and cons of each type of system. \nLEARNING OBJECTIVES:\n-Ventilation Types\n-Why Ventilate\n-Calculating Ventilation amount
URL:https://future.psdconsulting.com/calendar/r3-3-residential-ventilation-done-right-how-and-why-private-event-mvba/
LOCATION:ONLINE – WEBINAR
CATEGORIES:Massachusetts Energy Code Training,PRIVATE EVENT,Residential
ATTACH;FMTTYPE=image/jpeg:https://future.psdconsulting.com/wp-content/uploads/2021/11/mass-save-campaign-e1641940204537.jpg
ORGANIZER;CN="MVBA":MAILTO:katrinaad20@gmail.com
END:VEVENT
END:VCALENDAR