BEGIN:VCALENDAR
VERSION:2.0
PRODID:-//PSD - ECPv6.3.6//NONSGML v1.0//EN
CALSCALE:GREGORIAN
METHOD:PUBLISH
X-ORIGINAL-URL:https://future.psdconsulting.com
X-WR-CALDESC:Events for PSD
REFRESH-INTERVAL;VALUE=DURATION:PT1H
X-Robots-Tag:noindex
X-PUBLISHED-TTL:PT1H
BEGIN:VTIMEZONE
TZID:America/New_York
BEGIN:DAYLIGHT
TZOFFSETFROM:-0500
TZOFFSETTO:-0400
TZNAME:EDT
DTSTART:20220313T070000
END:DAYLIGHT
BEGIN:STANDARD
TZOFFSETFROM:-0400
TZOFFSETTO:-0500
TZNAME:EST
DTSTART:20221106T060000
END:STANDARD
END:VTIMEZONE
BEGIN:VEVENT
DTSTART;TZID=America/New_York:20220304T111500
DTEND;TZID=America/New_York:20220304T121500
DTSTAMP:20260425T072817
CREATED:20220110T223945Z
LAST-MODIFIED:20220111T225812Z
UID:15472-1646392500-1646396100@future.psdconsulting.com
SUMMARY:R1.3 The Energy Code and Additions\, Alterations\, and Repairs (PRIVATE EVENT - HBRACM)
DESCRIPTION:Call Patricia Chalifoux for registration at 508-791-5595 \nIn-Person \n1 CSL LU/HSW \nCOURSE DESCRIPTION: \nDescription automatically generated Energy Code and Additions\, Alteration\, and Repairs (1 hour) \nResidential renovations\, alterations\, repairs\, and additions make up the largest proportion of building permit applications; yet\, confusion abounds as to how the energy code applies such as when duct testing is required\, how should ducts be insulated\, and blower door testing requirement for additions. This course will cover several of the most common types of existing home projects and describe the applicability of the most important energy code provisions. \n  \nLEARNING OBJECTIVES: \nStretch Code vs Non-Stretch Code​ \nTypes of Projects​ \nAdditions​ \nAlterations​ \nRepairs​ \nChange of occupancy​
URL:https://future.psdconsulting.com/calendar/r1-3-the-energy-code-and-additions-alterations-and-repairs-private-event-hbracm/
LOCATION:Sutton\, MA\, Sutton\, MA\, United States
CATEGORIES:Massachusetts Energy Code Training
ATTACH;FMTTYPE=image/jpeg:https://future.psdconsulting.com/wp-content/uploads/2021/11/mass-save-campaign-e1641940204537.jpg
END:VEVENT
END:VCALENDAR